BEGIN:VCALENDAR
VERSION:2.0
PRODID:-//Ecole Privée des Techniques Economiques et Commerciales
CALSCALE:GREGORIAN
METHOD:PUBLISH
X-WR-CALNAME:Ecole Privée des Techniques Economiques et Commerciales
X-ORIGINAL-URL:https://etec.ma/event/visite-dentreprise/
X-WR-CALDESC:Visite d&rsquo;entreprise
BEGIN:VEVENT
DTSTART:20160622T080000
DTEND:20160622T113000
SUMMARY:Visite d&rsquo;entreprise
DESCRIPTION:Business it will frequently occur that pleasures have to be repudiated and annoyances accepted. The wise man therefore always holds.
LOCATION:Bentley Campus, Perth, WA
END:VEVENT
END:VCALENDAR
